BEGIN:VCALENDAR
VERSION:2.0
PRODID:-//United Church of Christ - ECPv6.0.11//NONSGML v1.0//EN
CALSCALE:GREGORIAN
METHOD:PUBLISH
X-ORIGINAL-URL:https://www.ucc.org
X-WR-CALDESC:Events for United Church of Christ
REFRESH-INTERVAL;VALUE=DURATION:PT1H
X-Robots-Tag:noindex
X-PUBLISHED-TTL:PT1H
BEGIN:VTIMEZONE
TZID:America/New_York
BEGIN:DAYLIGHT
TZOFFSETFROM:-0500
TZOFFSETTO:-0400
TZNAME:EDT
DTSTART:20260308T070000
END:DAYLIGHT
BEGIN:STANDARD
TZOFFSETFROM:-0400
TZOFFSETTO:-0500
TZNAME:EST
DTSTART:20261101T060000
END:STANDARD
END:VTIMEZONE
BEGIN:VEVENT
DTSTART;TZID=America/New_York:20260106T140000
DTEND;TZID=America/New_York:20260106T150000
DTSTAMP:20260421T161449
CREATED:20251202T170430Z
LAST-MODIFIED:20251202T170430Z
UID:255390-1767708000-1767711600@www.ucc.org
SUMMARY:This Month at the UN
DESCRIPTION:Join us the first Tuesday of each month at 2pm to learn more about what the UCC does at the United Nations! Hear updates from the UCC Main Representative to the UN\, Donna Bollinger\, on program updates\, our interfaith and ecumenical partners\, and upcoming events. There will be time set aside during the meeting so that we can hear from YOU on these topics and how we can help to amplify the work our local congregations and partners are doing in the community.  \nAll are invited to join us in conversation! You only need to register once and then will be able to join us for any of our monthly meetings through the next year. Register here!  
URL:https://www.ucc.org/event/this-month-at-the-un/2026-01-06/
LOCATION:Zoom
ATTACH;FMTTYPE=image/png:https://www.ucc.org/wp-content/uploads/2025/12/This-Month-at-the-UN-16x9-1.png
END:VEVENT
BEGIN:VEVENT
DTSTART;TZID=America/New_York:20260107T120000
DTEND;TZID=America/New_York:20260107T130000
DTSTAMP:20260421T161449
CREATED:20251110T142340Z
LAST-MODIFIED:20251110T142340Z
UID:254199-1767787200-1767790800@www.ucc.org
SUMMARY:OWL Taking Flight: What's Faith Got to Do With It?
DESCRIPTION:What does faith have to do with sex ed? Join us to hear why two faith organizations continue to partner to provide comprehensive\, inclusive and faith-based sexuality education.
URL:https://www.ucc.org/event/owl-taking-flight-whats-faith-got-to-do-with-it/
LOCATION:Zoom
CATEGORIES:Our Whole LIves,Our Whole Lives
ATTACH;FMTTYPE=image/jpeg:https://www.ucc.org/wp-content/uploads/2025/10/OWL-Event-Graphic-1.jpg
END:VEVENT
BEGIN:VEVENT
DTSTART;TZID=America/New_York:20260114T130000
DTEND;TZID=America/New_York:20260114T140000
DTSTAMP:20260421T161449
CREATED:20251205T164304Z
LAST-MODIFIED:20251205T164304Z
UID:255543-1768395600-1768399200@www.ucc.org
SUMMARY:Climate Action Commissioning Service
DESCRIPTION:As we enter a year of critical importance in the struggle for climate justice\, the UCC is holding a Climate Action Commissioning Service. Gather with us as we faithfully prepare ourselves to take action in the coming year. The theme for this service and for the 2026 Climate Hope Art Contest is “a future with hope” (Jeremiah 29:11). Our preacher will be the Rev. Jim Antal\, author of “Climate Church\, Climate World” and Special Advisor on Climate Justice to the UCC General Minister and President. Even if you cannot make the live event\, still register\, and we will send you a recording.
URL:https://www.ucc.org/event/climate-action-commissioning-service-3/
LOCATION:Zoom
CATEGORIES:Creation Justice
ATTACH;FMTTYPE=image/jpeg:https://www.ucc.org/wp-content/uploads/2025/12/Commissioning-Service.jpg
END:VEVENT
BEGIN:VEVENT
DTSTART;TZID=America/New_York:20260122T153000
DTEND;TZID=America/New_York:20260122T163000
DTSTAMP:20260421T161449
CREATED:20260105T153551Z
LAST-MODIFIED:20260114T154554Z
UID:256220-1769095800-1769099400@www.ucc.org
SUMMARY:Reading Into the New Year: Not Just for Kids Children's Book Edition
DESCRIPTION:Join author Becky Manfredini and illustrator-writer\, Meredith Gould\, as they discuss their decades-long friendship that culminated in developing a children’s book series published by The Pilgrim Press: Slug and Snail Search for Home\, Slug and Snail Search for Love\, and Slug and Snail Search for Peace. They’ll share the inspiration for creating the main characters\, Slug and Snail\, two BFFs who search for the meaning of home\, love\, and peace. \nThe series focuses on these basic concepts for building a child’s social\, emotional\, and cognitive development\, and will be explored during the webinar. Becky and Meredith will share how their lifelong love of books is one element at the core of their collaboration. They’ll also focus on finding inspiration\, creative processes\, and how they worked individually and as a team to create a compelling storyline\, through showing and telling. \nReading Into the New Year webinar series is a longer series where at the start of every year\, Nurture the Soul partners with Pilgrim Press to invite you to lead a book discussion in your own congregational or community settings in 2026.
URL:https://www.ucc.org/event/reading-into-the-new-year-not-just-for-kids-childrens-book-edition/
LOCATION:Zoom
CATEGORIES:Nurture the Soul
ATTACH;FMTTYPE=image/jpeg:https://www.ucc.org/wp-content/uploads/2026/01/Reading-Into-the-New-Year.jpg
END:VEVENT
BEGIN:VEVENT
DTSTART;TZID=America/New_York:20260129T153000
DTEND;TZID=America/New_York:20260129T163000
DTSTAMP:20260421T161449
CREATED:20251121T163640Z
LAST-MODIFIED:20260114T155110Z
UID:255121-1769700600-1769704200@www.ucc.org
SUMMARY:Reading Into the New Year: Drag Queen Preacher\, The Power of Identity
DESCRIPTION:Join us for a webinar with Rev. R.R. Tavárez\, the author of Drag Queen Preacher! Including themes of his Afro-Latino culture\, queerness\, faith\, doubt\, and a radical emergence as a drag performer\, this minister takes us on a journey. Through the elegance of poetry and prose we are invited into a beautiful reckoning where we find our story\, refuse to be invisible\, and dare to become more human. \nOur 2026 Reading Into the New Year series will highlight books that were released by Pilgrim Press in the 4th Quarter of 2026 and the 1st Quarter of 2026. We hope that each episode invites you to lead a book discussion in your own congregational or community settings in 2026!
URL:https://www.ucc.org/event/reading-into-the-new-year-drag-queen-preacher-the-power-of-identity/
LOCATION:Zoom
CATEGORIES:Nurture the Soul
ATTACH;FMTTYPE=image/jpeg:https://www.ucc.org/wp-content/uploads/2025/11/Drag-Queen-Preacher-The-Power-of-Identity.jpg
END:VEVENT
END:VCALENDAR