BEGIN:VCALENDAR
VERSION:2.0
PRODID:-//United Church of Christ - ECPv6.0.11//NONSGML v1.0//EN
CALSCALE:GREGORIAN
METHOD:PUBLISH
X-ORIGINAL-URL:https://www.ucc.org
X-WR-CALDESC:Events for United Church of Christ
REFRESH-INTERVAL;VALUE=DURATION:PT1H
X-Robots-Tag:noindex
X-PUBLISHED-TTL:PT1H
BEGIN:VTIMEZONE
TZID:America/New_York
BEGIN:DAYLIGHT
TZOFFSETFROM:-0500
TZOFFSETTO:-0400
TZNAME:EDT
DTSTART:20250309T070000
END:DAYLIGHT
BEGIN:STANDARD
TZOFFSETFROM:-0400
TZOFFSETTO:-0500
TZNAME:EST
DTSTART:20251102T060000
END:STANDARD
END:VTIMEZONE
BEGIN:VEVENT
DTSTART;TZID=America/New_York:20251202T140000
DTEND;TZID=America/New_York:20251202T150000
DTSTAMP:20260421T173723
CREATED:20251202T170430Z
LAST-MODIFIED:20251202T170430Z
UID:255387-1764684000-1764687600@www.ucc.org
SUMMARY:This Month at the UN
DESCRIPTION:Join us the first Tuesday of each month at 2pm to learn more about what the UCC does at the United Nations! Hear updates from the UCC Main Representative to the UN\, Donna Bollinger\, on program updates\, our interfaith and ecumenical partners\, and upcoming events. There will be time set aside during the meeting so that we can hear from YOU on these topics and how we can help to amplify the work our local congregations and partners are doing in the community.  \nAll are invited to join us in conversation! You only need to register once and then will be able to join us for any of our monthly meetings through the next year. Register here!  
URL:https://www.ucc.org/event/this-month-at-the-un/
LOCATION:Zoom
ATTACH;FMTTYPE=image/png:https://www.ucc.org/wp-content/uploads/2025/12/This-Month-at-the-UN-16x9-1.png
END:VEVENT
BEGIN:VEVENT
DTSTART;TZID=America/New_York:20251204T153000
DTEND;TZID=America/New_York:20251204T163000
DTSTAMP:20260421T173723
CREATED:20251121T153236Z
LAST-MODIFIED:20251203T145312Z
UID:254395-1764862200-1764865800@www.ucc.org
SUMMARY:Joy as Resistance with Neal D. Presa
DESCRIPTION:The season of Advent invites us to embody joy. Yet\, the times in which we live may challenge joyful experiences\, practices\, and encounters. Worship helps bridge recognition of the current reality with hope for the future…making space for joy. Join Cheryl A. Lindsay\, UCC Minister for Worship and Theology for an Advent conversation with Neal D. Presa\, author of Worship\, Justice and Joy: A Liturgical Pilgrimage.\n\n*This event will be streamed live on YouTube and Facebook. No registration necessary.
URL:https://www.ucc.org/event/joy-as-resistance-with-neal-d-presa/
LOCATION:Zoom
CATEGORIES:Nurture the Soul
ATTACH;FMTTYPE=image/jpeg:https://www.ucc.org/wp-content/uploads/2025/11/2025-Advent-Finding-Joy-in-Advent-WP-Email-FB-Cover.jpg
END:VEVENT
BEGIN:VEVENT
DTSTART;TZID=America/New_York:20251210T130000
DTEND;TZID=America/New_York:20251210T140000
DTSTAMP:20260421T173723
CREATED:20251121T162109Z
LAST-MODIFIED:20251202T181741Z
UID:255113-1765371600-1765375200@www.ucc.org
SUMMARY:Faith-Rooted Anti-Authoritarianism
DESCRIPTION:In countries like Zambia\, Nicaragua\, Sri Lanka\, Hungary\, and Brazil\, churches have played a vital role in pro-democracy movements that have challenged authoritarianism. Maria Stephan\, who co-authored “Why Civil Resistance Works: The Strategic Logic of Nonviolent Conflict” with Erica Chenoweth\, will be joined by others in this webinar to share important lessons and insights for faith communities in the United States. \nEven if you cannot make the live event\, still register\, and we will send you a recording. \nThis monthly installment of Creation Justice Webinars is co-hosted by the Rev. Dr. Brooks Berndt\, who serves as the Minister of Environmental Justice for the United Church of Christ\, and the Rev. Michael Malcom\, who serves as the Executive Director for Alabama Interfaith Power & Light and the People’s Justice Council.
URL:https://www.ucc.org/event/faith-rooted-anti-authoritarianism/
LOCATION:Zoom
CATEGORIES:Creation Justice
ATTACH;FMTTYPE=image/jpeg:https://www.ucc.org/wp-content/uploads/2025/12/Anti-Authoritarian-Digest.jpg
END:VEVENT
BEGIN:VEVENT
DTSTART;TZID=America/New_York:20251211T153000
DTEND;TZID=America/New_York:20251211T163000
DTSTAMP:20260421T173723
CREATED:20251208T153710Z
LAST-MODIFIED:20251209T201300Z
UID:255591-1765467000-1765470600@www.ucc.org
SUMMARY:Joy Through Hope (pre-recorded)
DESCRIPTION:Hope forms as a response to need\, struggle\, and dreams of a better future. Hope serves as an antidote to fear\, motivation to continue forward\, and fuel for joy. Rejoice with us as conference ministers and national staff share stories and reflect on sparks of hope in the life of the church.
URL:https://www.ucc.org/event/joy-through-hope/
LOCATION:Zoom
CATEGORIES:Nurture the Soul
ATTACH;FMTTYPE=image/jpeg:https://www.ucc.org/wp-content/uploads/2025/12/2025-Advent-Finding-Joy-in-Advent-WP-Email-FB-Cover.jpg
END:VEVENT
BEGIN:VEVENT
DTSTART;TZID=America/New_York:20251213T120000
DTEND;TZID=America/New_York:20251213T130000
DTSTAMP:20260421T173723
CREATED:20251124T150311Z
LAST-MODIFIED:20251204T223843Z
UID:255141-1765627200-1765630800@www.ucc.org
SUMMARY:United Church of Christ & United Church of Canada 10th Year Anniversary Online Worship
DESCRIPTION:The United Church of Christ (UCC) and the United Church of Canada (UCC Canada) entered into a formal full-communion agreement in 2015\, following unanimous votes by both denominations. This full communion was affirmed by the UCC General Synod in June 2015 and by the UCC Canada General Council in August 2015\, and was further celebrated through a joint worship service on October 17\, 2015. \nAs we celebrate our 10th anniversary this year\, we gather for an online worship service rejoicing in the deepening partnership between our churches. We invite you to join us online—and to share the livestream with your congregations and communities—so that churches and members across both denominations can participate together in this joyful celebration. Together\, we celebrate the joy of our shared ministry\, affirm our continuing commitment to one another\, and look with gratitude and excitement toward all that God is calling us to do—side by side—in the years to come.
URL:https://www.ucc.org/event/united-church-of-christ-united-church-of-canada-10th-year-anniversary-online-worship/
LOCATION:Zoom
CATEGORIES:United Church of Christ
ATTACH;FMTTYPE=image/jpeg:https://www.ucc.org/wp-content/uploads/2025/11/2025-12-13-10th-Anniversary-Service-WP-Email-FB-Cover.jpg
END:VEVENT
BEGIN:VEVENT
DTSTART;TZID=America/New_York:20251213T130000
DTEND;TZID=America/New_York:20251213T140000
DTSTAMP:20260421T173723
CREATED:20251201T154448Z
LAST-MODIFIED:20251202T181613Z
UID:255316-1765630800-1765634400@www.ucc.org
SUMMARY:An Advent Message from the Rev. Dr. Benjamin Chavis\, Jr.
DESCRIPTION:Get a sense of what Climate Hope Affiliates is all about while hearing from the Rev. Benjamin Chavis\, Jr. Chavis is often credited with coining the phrase “environmental racism.” He played a leading role in three of the most important events in the formation and development of the environmental justice movement: the Warren County civil disobedience campaign\, the publication of the landmark report on toxic waste and race\, and the First National People of Color Environmental Leadership Summit. Join Climate Hope Affiliates for its monthly national webinar on Saturday\, December 13th at 1 pm ET/12 pm CT/11 am MT/10 am PT. Chavis will deliver an Advent message.
URL:https://www.ucc.org/event/an-advent-message-from-the-rev-dr-benjamin-chavis-jr/
LOCATION:Zoom
CATEGORIES:Creation Justice
END:VEVENT
BEGIN:VEVENT
DTSTART;TZID=America/New_York:20251218T153000
DTEND;TZID=America/New_York:20251218T163000
DTSTAMP:20260421T173723
CREATED:20251205T170311Z
LAST-MODIFIED:20251209T201141Z
UID:255546-1766071800-1766075400@www.ucc.org
SUMMARY:Joy Through Lament: A Blue Christmas Worship Service (pre-recorded)
DESCRIPTION:Joy honors sorrow and sadness\, pain and despair\, regret and grief. We invite you into a space that recognizes that “good cheer” may not be attainable for all. Lament allows us to acknowledge our authentic emotional condition while commemorating the Incarnation/Birth of Christ and being comforted by Emmanuel/God With Us.
URL:https://www.ucc.org/event/joy-through-lament-a-blue-christmas-worship-service-pre-recorded/
LOCATION:Zoom
CATEGORIES:Nurture the Soul
ATTACH;FMTTYPE=image/jpeg:https://www.ucc.org/wp-content/uploads/2025/12/2025-Advent-Finding-Joy-in-Advent-WP-Email-FB-Cover.jpg
END:VEVENT
END:VCALENDAR