BEGIN:VCALENDAR
VERSION:2.0
PRODID:-//United Church of Christ - ECPv6.0.11//NONSGML v1.0//EN
CALSCALE:GREGORIAN
METHOD:PUBLISH
X-ORIGINAL-URL:https://www.ucc.org
X-WR-CALDESC:Events for United Church of Christ
REFRESH-INTERVAL;VALUE=DURATION:PT1H
X-Robots-Tag:noindex
X-PUBLISHED-TTL:PT1H
BEGIN:VTIMEZONE
TZID:America/New_York
BEGIN:DAYLIGHT
TZOFFSETFROM:-0500
TZOFFSETTO:-0400
TZNAME:EDT
DTSTART:20250309T070000
END:DAYLIGHT
BEGIN:STANDARD
TZOFFSETFROM:-0400
TZOFFSETTO:-0500
TZNAME:EST
DTSTART:20251102T060000
END:STANDARD
END:VTIMEZONE
BEGIN:VEVENT
DTSTART;TZID=America/New_York:20250903T120000
DTEND;TZID=America/New_York:20250903T130000
DTSTAMP:20260421T215758
CREATED:20250730T160605Z
LAST-MODIFIED:20250730T160605Z
UID:250193-1756900800-1756904400@www.ucc.org
SUMMARY:OWL Taking Flight: Building a Trans/Nonbinary-Inclusive Teen Library
DESCRIPTION:Join Melanie Davis and Sloane Kazim for a discussion about how to make sure your library at home\, at church\, in your community–is inclusive of trans/nonbinary representation. Now\, more than ever\, this matters!
URL:https://www.ucc.org/event/owl-taking-flight-building-a-trans-nonbinary-inclusive-teen-library/
LOCATION:Zoom
CATEGORIES:Our Whole LIves,Our Whole Lives
END:VEVENT
BEGIN:VEVENT
DTSTART;TZID=America/New_York:20250903T130000
DTEND;TZID=America/New_York:20250903T140000
DTSTAMP:20260421T215758
CREATED:20250806T142410Z
LAST-MODIFIED:20250806T142410Z
UID:250491-1756904400-1756908000@www.ucc.org
SUMMARY:Climate Action Assembly
DESCRIPTION:The UCC Council for Climate Justice will be hosting a Climate Action Assembly to further the connectedness and action in the UCC for pursuing climate justice. In this gathering\, we will hear from the Rev. Jim Antal about the upcoming national day of action on September 21st called Sun Day. We will also hear from Rebeca Perera\, the Chief Credit Officer for the Cornerstone Fund\, on the present and future outlook for churches going solar after the reconciliation bill. Additional updates will be given about Creation Justice Churches and Climate Hope Affiliates.
URL:https://www.ucc.org/event/climate-action-assembly-5/
LOCATION:Zoom
CATEGORIES:Creation Justice
ATTACH;FMTTYPE=image/jpeg:https://www.ucc.org/wp-content/uploads/2024/11/ClimateActionAssembly-ZoomBanner.jpg
END:VEVENT
BEGIN:VEVENT
DTSTART;TZID=America/New_York:20250904T153000
DTEND;TZID=America/New_York:20250904T163000
DTSTAMP:20260421T215758
CREATED:20250430T153420Z
LAST-MODIFIED:20250430T153420Z
UID:246472-1756999800-1757003400@www.ucc.org
SUMMARY:Dumpster Fire Ethics: Rethinking How We Follow Jesus
DESCRIPTION:In times of social\, political\, and economic crisis we need new ways to think about morality and ethics to make sure that our ethical approaches serve the moment and compel us into just and healing action. Sociologist\, liturgist\, and sacred music composer Amanda Udis-Kessler offers us a new way of thinking about ethics that is consonant with the commitments of progressive Christianity and that helps us follow Jesus in times of violence\, cruelty\, and corruption. This ethical approach has implications for our spiritual development\, personal growth\, church practices\, and justice work. Join us for a conversation with Amanda about her 2024 Pilgrim Press book Abundant Lives: A Progressive Christian Ethic of Flourishing.
URL:https://www.ucc.org/event/dumpster-fire-ethics-rethinking-how-we-follow-jesus/
LOCATION:Zoom
CATEGORIES:Nurture the Soul
END:VEVENT
BEGIN:VEVENT
DTSTART;TZID=America/New_York:20250910T130000
DTEND;TZID=America/New_York:20250910T140000
DTSTAMP:20260421T215758
CREATED:20250818T135900Z
LAST-MODIFIED:20250818T135900Z
UID:250945-1757509200-1757512800@www.ucc.org
SUMMARY:Emerging Strategies to Fight AI Data Centers
DESCRIPTION:Emerging threats demand emerging strategies. The rise of AI data centers has been a driver in the rise in power demand and increasing greenhouse gas emissions in the United States. Moreover\, the advanced cooling systems required by these data centers necessitate high levels of water consumption which can have serious ecological consequences\, especially in places of water scarcity. Finally\, the technological components of AI data centers require the extracting of rare earth minerals in addition to generating enormous amounts of electronic waste. The justice concerns intertwined with these issues are many when one considers the racial and economic disparities in bearing the cost of everything from increased utility bills to the harms of climate change. To address what is at stake and point us toward emerging strategies\, we will hear from following featured guests: \n-Anthony Rogers-Wright\, The Black Hive of Movement for Black Lives \n-Nayyirah Shariff\, Flint Rising \n-Wanda Mosley\, Black Voters Matter \n-Lindsay Harper\, Arm in Arm \nEven if you cannot make the live event\, still register\, and we will send you a recording. \nThis monthly installment of Creation Justice Webinars is co-hosted by the Rev. Dr. Brooks Berndt who serves as the Minister of Environmental Justice for the United Church of Christ and the Rev. Michael Malcom who serves as the Executive Director for Alabama Interfaith Power & Light and the People’s Justice Council.
URL:https://www.ucc.org/event/emerging-strategies-to-fight-ai-data-centers/
LOCATION:Zoom
CATEGORIES:Creation Justice
ATTACH;FMTTYPE=image/jpeg:https://www.ucc.org/wp-content/uploads/2025/08/EmergingStrategies.jpg
END:VEVENT
BEGIN:VEVENT
DTSTART;TZID=America/New_York:20250911T153000
DTEND;TZID=America/New_York:20250911T163000
DTSTAMP:20260421T215758
CREATED:20250804T165804Z
LAST-MODIFIED:20250804T165804Z
UID:250323-1757604600-1757608200@www.ucc.org
SUMMARY:Clergy Conversation Series on Addiction & Families: Family Matters/Families Matter - Part I
DESCRIPTION:Join us for a 3-part series on Addiction & Families: Family Matter/Families Matter. Part I\, Language Matters: Defining the Words We Use. In this webinar\, we (Erica Poellot and Dee-Dee Stout) discuss how our language around substance use has changed and why this is crucial for us to understand before having deeper conversations about addiction. Words such as recovery\, addiction\, dependence\, substance use disorders\, enabling/codependency\, harm reduction\, and more will be covered. We may also discuss some of the history & myths of harm reduction and abstinence-only treatment. There will be time for Q&A with the panelists after each session!
URL:https://www.ucc.org/event/clergy-conversation-series-on-addiction-and-families-family-matters-families-matter-part-i/
LOCATION:Zoom
CATEGORIES:Nurture the Soul
END:VEVENT
BEGIN:VEVENT
DTSTART;TZID=America/New_York:20250915T153000
DTEND;TZID=America/New_York:20250915T163000
DTSTAMP:20260421T215758
CREATED:20250730T172845Z
LAST-MODIFIED:20250730T172845Z
UID:250195-1757950200-1757953800@www.ucc.org
SUMMARY:What's Next Series: The Re-Member Yourself as a Sacred Creator
DESCRIPTION:This series began prior to the 2024 election cycle and is designed to help educate us around the big questions of our faith. To live into the Still Speaking G-d\, we are the embodiment of who and what we are called to be to one another – whether it be spiritually\, culturally\, and lovingly during a time when we are being pulled apart at the seams. Part of this embodiment is examining the ways that art speaks and moves us towards expression and collectiveness. \nJoin poet\, artist and Creative Formation practitioner\, Ally Markotich\, to re-member yourself as a sacred creator. During our time together\, Ally will share about her own story of coming back to herself as creative and inspire you to claim your colorful prowess. Become aware of common cultural and personal myths that hold us back from our innate creativity and learn simple ways to reweave creativity into your story. Bring a pencil and some color (markers\, colored pencils or paint) as Ally will complete our gathering by guiding us through a simple 4-step visual prayer process to awaken insight. Come and experience the “ahas” creativity can bring when engaged as a spiritual practice for your life.
URL:https://www.ucc.org/event/whats-next-series-the-re-member-yourself-as-a-sacred-creator/
LOCATION:Zoom
CATEGORIES:Nurture the Soul
END:VEVENT
BEGIN:VEVENT
DTSTART;TZID=America/New_York:20250918T153000
DTEND;TZID=America/New_York:20250918T163000
DTSTAMP:20260421T215758
CREATED:20250804T175827Z
LAST-MODIFIED:20250804T175827Z
UID:250325-1758209400-1758213000@www.ucc.org
SUMMARY:Clergy Conversation Series on Addiction & Families: Family Matters/Families Matter - Part II
DESCRIPTION:Part II – For this 2nd part of this 3-part series\, we’ll continue to learn from Erica Poellot & Dee-Dee Stout as they open this conversation with these questions: How do we support our loved ones without enabling their drug use? Or does that even really matter? Join us as we take a deep dive into the many options families have today beyond the traditional intervention that not only is rarely effective but often has lasting negative effects which can devastate families sometimes forever.
URL:https://www.ucc.org/event/clergy-conversation-series-on-addiction-families-family-matters-families-matter-part-ii/
LOCATION:Zoom
CATEGORIES:Nurture the Soul
END:VEVENT
BEGIN:VEVENT
DTSTART;TZID=America/New_York:20250925T153000
DTEND;TZID=America/New_York:20250925T163000
DTSTAMP:20260421T215758
CREATED:20250804T180242Z
LAST-MODIFIED:20250804T180242Z
UID:250327-1758814200-1758817800@www.ucc.org
SUMMARY:Clergy Conversation Series on Addiction & Families: Family Matters/Families Matter - Part III
DESCRIPTION:Part III – Practicing Harm Reduction for Clergy and Lay Leaders: How Changing Our Minds Helps the People We Love & Serve (and Ourselves). For Part III\, we’ll hear from Erica Poellot & Dee-Dee Stout as they look at the broader issue of countertransference in clergy’s work with families and others when it comes to drug use\, especially illicit drug use. How does this phenomena interfere with our work? How can it help us? What are the tenets of harm reduction & harm reduction psychotherapy that anyone can use as part of an overall loving\, Christ-centered approach to people who use drugs of any kind? We’ll discuss how a harm reduction approach can give us a better and more effective way to work with those who problematically use drugs and their families and keep us aligned with our hearts.
URL:https://www.ucc.org/event/clergy-conversation-series-on-addiction-families-family-matters-families-matter-part-iii/
LOCATION:Zoom
CATEGORIES:Nurture the Soul
END:VEVENT
BEGIN:VEVENT
DTSTART;TZID=America/New_York:20250930T150000
DTEND;TZID=America/New_York:20250930T163000
DTSTAMP:20260421T215758
CREATED:20250902T193614Z
LAST-MODIFIED:20250902T193702Z
UID:251321-1759244400-1759249800@www.ucc.org
SUMMARY:Celebrating Neighbors in Need Grant Recipients
DESCRIPTION:Join Rachel McDonald\, Generosity Officer Our Church’s Wider Mission and Special Mission Offerings and Christine Lucarelli\, Minister for Granting and Scholarships to learn about the Neighbors in Need grants and hear from three grant recipients. Hear about the ministries supported through these grants\, including a breakfast program for children\, a LGBTQIA+ safe space\, and a network of accessible food pantries. The grants that strengthen these initiatives from Anchorage to Chattanooga are funded gifts to the Neighbors in Need offering. Join to be inspired for your own local ministries and to build enthusiasm for the all-church Neighbors in Need offering many congregations will collect on October 5th.
URL:https://www.ucc.org/event/celebrating-neighbors-in-need-grant-recipients/
LOCATION:Zoom
END:VEVENT
END:VCALENDAR