BEGIN:VCALENDAR
VERSION:2.0
PRODID:-//United Church of Christ - ECPv6.0.11//NONSGML v1.0//EN
CALSCALE:GREGORIAN
METHOD:PUBLISH
X-WR-CALNAME:United Church of Christ
X-ORIGINAL-URL:https://www.ucc.org
X-WR-CALDESC:Events for United Church of Christ
REFRESH-INTERVAL;VALUE=DURATION:PT1H
X-Robots-Tag:noindex
X-PUBLISHED-TTL:PT1H
BEGIN:VTIMEZONE
TZID:America/New_York
BEGIN:DAYLIGHT
TZOFFSETFROM:-0500
TZOFFSETTO:-0400
TZNAME:EDT
DTSTART:20250309T070000
END:DAYLIGHT
BEGIN:STANDARD
TZOFFSETFROM:-0400
TZOFFSETTO:-0500
TZNAME:EST
DTSTART:20251102T060000
END:STANDARD
END:VTIMEZONE
BEGIN:VEVENT
DTSTART;TZID=America/New_York:20250603T173000
DTEND;TZID=America/New_York:20250603T190000
DTSTAMP:20260422T021642
CREATED:20250408T163844Z
LAST-MODIFIED:20250520T164134Z
UID:245279-1748971800-1748977200@www.ucc.org
SUMMARY:For Consideration at General Synod 35: Proposed Amendments to the UCC Constitution & Bylaws
DESCRIPTION:This Webinar is being hosted by the UCCB to engage with the wider church about the proposed Amendments to the UCC Constitution and ByLaws. The three sets of amendments will be voted on at General Synod 35. Come to learn more and ask questions!
URL:https://www.ucc.org/event/for-consideration-at-general-synod-35-proposed-amendments-to-the-ucc-constitution-bylaws-2/
LOCATION:Zoom
ATTACH;FMTTYPE=image/jpeg:https://www.ucc.org/wp-content/uploads/2025/04/UCCB-Proposed-Synod-Amendments-WP-Email-FB-Cover.jpg
END:VEVENT
BEGIN:VEVENT
DTSTART;TZID=America/New_York:20250604T120000
DTEND;TZID=America/New_York:20250604T130000
DTSTAMP:20260422T021642
CREATED:20250409T143715Z
LAST-MODIFIED:20250529T154455Z
UID:245338-1749038400-1749042000@www.ucc.org
SUMMARY:OWL Taking Flight: What Fresh Hell is This? The Impact of Identity Erasure
DESCRIPTION:Heather Corinna\, founder of Scarleteen.com\, joins Rev. Amy Johnson and Dr. Melanie Davis to discuss the impact of policies\, laws\, and executive orders on the lives of trans/intersex/nonbinary/queer people of all ages. Scarleteen is the largest online resource for comprehensive and highly inclusive sex and relationships education\, information and support centering young people.
URL:https://www.ucc.org/event/owl-taking-flight-what-fresh-hell-is-this-the-impact-of-identity-erasure/
LOCATION:Zoom
CATEGORIES:Our Whole LIves,Our Whole Lives
ATTACH;FMTTYPE=image/jpeg:https://www.ucc.org/wp-content/uploads/2025/04/efd38df7-8a5c-4ba3-b0bb-9deb22018578.jpg
END:VEVENT
BEGIN:VEVENT
DTSTART;TZID=America/New_York:20250605T153000
DTEND;TZID=America/New_York:20250605T163000
DTSTAMP:20260422T021642
CREATED:20250428T155009Z
LAST-MODIFIED:20250529T154639Z
UID:246086-1749137400-1749141000@www.ucc.org
SUMMARY:Lessons\, Stories\, and Theologies of Small Town and Rural (STAR) Churches in 2025
DESCRIPTION:We are joined by a number of Small Town and Rural (STAR) faith and lay leaders for an important conversation to learn about the lessons that all of our faith communities face today. We’ll hear personal accounts of their journeys and how scripture and theology guide them towards framing the future of our churches and our faith.
URL:https://www.ucc.org/event/lessons-stories-and-theologies-of-small-town-and-rural-star-churches-in-2025/
LOCATION:Zoom
CATEGORIES:Nurture the Soul
ATTACH;FMTTYPE=image/jpeg:https://www.ucc.org/wp-content/uploads/2025/04/5d9db94e-4f2b-4ac4-95cb-2c150128af67.jpg
END:VEVENT
BEGIN:VEVENT
DTSTART;TZID=America/New_York:20250610T153000
DTEND;TZID=America/New_York:20250610T163000
DTSTAMP:20260422T021642
CREATED:20250307T141251Z
LAST-MODIFIED:20250307T141251Z
UID:243865-1749569400-1749573000@www.ucc.org
SUMMARY:Into the Deep: Womxn 2 Womxn Series Part III
DESCRIPTION:Join us for an intimate workshop and learning community space for womxn as we journey toward Synod together! We’ll grow together and share communal space in an open-meeting format. Don’t miss this unique opportunity to build community and gather.
URL:https://www.ucc.org/event/into-the-deep-womxn-2-womxn-series-part-iii/
LOCATION:Zoom
CATEGORIES:Nurture the Soul
ATTACH;FMTTYPE=image/png:https://www.ucc.org/wp-content/uploads/2025/03/Womxn-to-Womxn.png
END:VEVENT
BEGIN:VEVENT
DTSTART;TZID=America/New_York:20250611T130000
DTEND;TZID=America/New_York:20250611T140000
DTSTAMP:20260422T021642
CREATED:20250515T150200Z
LAST-MODIFIED:20250529T154350Z
UID:247187-1749646800-1749650400@www.ucc.org
SUMMARY:National Faith Mobilization for Sun Day on September 21st
DESCRIPTION:On September 21st\, the UCC will hold a denomination-wide Climate Hope Sunday. This will be a day of worship and action. Liturgical resources will be provided along with advocacy cards directed at Members of Congress. The advocacy cards will feature the winning art from this year’s Climate Hope Art Contest\, and they will allow members a chance to let their congress members know about their desire for robust policies to address the climate crisis. Climate Hope Sunday will coincide with a national day of action being spearheaded by Bill McKibben\, Jim Antal\, and others as they celebrate “Sun-Day” and draw attention to the renewable energy that can power our future. Our theme will be “Bringing Climate Hope to Sun-Day.” At this launch\, we will share about the plans for this event and how the process of ordering advocacy cards will work.
URL:https://www.ucc.org/event/national-faith-mobilization-for-sun-day-on-september-21st/
LOCATION:Zoom
CATEGORIES:Creation Justice,Environmental Justice
ATTACH;FMTTYPE=image/jpeg:https://www.ucc.org/wp-content/uploads/2025/05/7493b8d2-ec63-42ad-944d-0314bbfa1ffb.jpg
END:VEVENT
BEGIN:VEVENT
DTSTART;TZID=America/New_York:20250612T153000
DTEND;TZID=America/New_York:20250612T163000
DTSTAMP:20260422T021642
CREATED:20250310T140105Z
LAST-MODIFIED:20250310T140105Z
UID:243898-1749742200-1749745800@www.ucc.org
SUMMARY:A Little One Shall Lead - A Small Church Story Project
DESCRIPTION:In this webinar\, we’ll hear stories about how the wider church and congregations can discover opportunity in their smallness. The stories highlight how to create spirited worship\, highly engaged prayer practices\, and an invitation to live into a committed and generous responses to suffering in the communities where they are located. These compelling stories from 17-small UCC congregations can offer perspective on how denominations may relate with small congregations in fresh ways\, and how seminaries\, through inclusion of small church studies and field experiences\, may enrich clergy education.
URL:https://www.ucc.org/event/a-little-one-shall-lead-a-small-church-story-project/
LOCATION:Zoom
CATEGORIES:Nurture the Soul
END:VEVENT
BEGIN:VEVENT
DTSTART;TZID=America/New_York:20250623T153000
DTEND;TZID=America/New_York:20250623T163000
DTSTAMP:20260422T021642
CREATED:20250529T140201Z
LAST-MODIFIED:20250529T140201Z
UID:247603-1750692600-1750696200@www.ucc.org
SUMMARY:Into the Deep: Banned Books Service Project
DESCRIPTION:Join us to learn more about our General Synod service project this year focusing on creating Banned Book libraries in Kanas City and across our wider Church! We’ll dive deeper into why banned book libraries matter\, how to participate in this year’s service project and how to create a banned book library in your congregation.
URL:https://www.ucc.org/event/into-the-deep-banned-books-service-project/
LOCATION:Zoom
END:VEVENT
END:VCALENDAR