BEGIN:VCALENDAR
VERSION:2.0
PRODID:-//United Church of Christ - ECPv6.0.11//NONSGML v1.0//EN
CALSCALE:GREGORIAN
METHOD:PUBLISH
X-WR-CALNAME:United Church of Christ
X-ORIGINAL-URL:https://www.ucc.org
X-WR-CALDESC:Events for United Church of Christ
REFRESH-INTERVAL;VALUE=DURATION:PT1H
X-Robots-Tag:noindex
X-PUBLISHED-TTL:PT1H
BEGIN:VTIMEZONE
TZID:America/New_York
BEGIN:DAYLIGHT
TZOFFSETFROM:-0500
TZOFFSETTO:-0400
TZNAME:EDT
DTSTART:20250309T070000
END:DAYLIGHT
BEGIN:STANDARD
TZOFFSETFROM:-0400
TZOFFSETTO:-0500
TZNAME:EST
DTSTART:20251102T060000
END:STANDARD
END:VTIMEZONE
BEGIN:VEVENT
DTSTART;TZID=America/New_York:20250507T120000
DTEND;TZID=America/New_York:20250507T130000
DTSTAMP:20260422T033527
CREATED:20250409T144410Z
LAST-MODIFIED:20250409T164837Z
UID:245340-1746619200-1746622800@www.ucc.org
SUMMARY:OWL Taking Flight: Under Your Wing for Parents of 4th-6th Graders
DESCRIPTION:Rev Amy Johnson and Kirsten deFur will discuss a new free resource: Under Your Wing videos for parents and caregivers of children in 4th-6th grades.
URL:https://www.ucc.org/event/owl-taking-flight-under-your-wing-for-parents-of-4th-6th-graders/
LOCATION:Zoom
CATEGORIES:Our Whole LIves,Our Whole Lives
END:VEVENT
BEGIN:VEVENT
DTSTART;TZID=America/New_York:20250508T153000
DTEND;TZID=America/New_York:20250508T163000
DTSTAMP:20260422T033527
CREATED:20250404T130956Z
LAST-MODIFIED:20250429T165812Z
UID:245159-1746718200-1746721800@www.ucc.org
SUMMARY:Our Faith and Sensitive Locations - What Faith Communities Are Doing
DESCRIPTION:The Center on Faith and Justice along with the Institute for Constitutional Advocacy and Protection at Georgetown Law organized a lawsuit against the federal government on behalf of more than two dozen religious groups in response to the current administration’s policy allowing immigration agents more leeway to make arrests at “sensitive locations\,” including houses of worship. Join us to learn more about what the lawsuit is\, what our own congregations and communities can do to support our siblings migrating\, and dream of what’s next collectively.
URL:https://www.ucc.org/event/our-faith-and-sensitive-locations-what-faith-communities-are-doing/
LOCATION:Zoom
CATEGORIES:Nurture the Soul
END:VEVENT
BEGIN:VEVENT
DTSTART;TZID=America/New_York:20250512T153000
DTEND;TZID=America/New_York:20250512T163000
DTSTAMP:20260422T033527
CREATED:20250423T132839Z
LAST-MODIFIED:20250423T132839Z
UID:245828-1747063800-1747067400@www.ucc.org
SUMMARY:What's Next\, Theatre for Change: Use What You've Got!
DESCRIPTION:This series began prior to the 2024 election cycle and is designed to help educate us around the big questions of our faith. This special offering is curated to push back on the political ideology and divide that has become this nation’s “religion”. To live into the Still Speaking G-d\, we are the embodiment of who and what we are called to be to one another – whether it be spiritually\, culturally\, and lovingly during a time when we are being pulled apart at the seams. Part of this embodiment is examining the ways that art speaks and moves us towards expression and collectiveness. \nIn this session\, Rev. Dr. McGilvery shares insights from their recent work using theatre to amplify unheard voices\, advocate for justice\, and bring overlooked stories to the stage. We’ll explore how even the smallest resources—when used intentionally—can spark meaningful change in communities. Whether you’re an artist\, educator\, or activist\, you’ll be inspired to use what you have to create an impact where you are.
URL:https://www.ucc.org/event/whats-next-theatre-for-change-use-what-youve-got/
LOCATION:Zoom
CATEGORIES:Nurture the Soul
END:VEVENT
BEGIN:VEVENT
DTSTART;TZID=America/New_York:20250513T153000
DTEND;TZID=America/New_York:20250513T163000
DTSTAMP:20260422T033527
CREATED:20250307T140809Z
LAST-MODIFIED:20250307T140809Z
UID:243863-1747150200-1747153800@www.ucc.org
SUMMARY:Into the Deep: Womxn 2 Womxn Series Part II
DESCRIPTION:Join us for an intimate workshop and learning community space for womxn as we journey toward Synod together! We’ll grow together and share communal space in an open-meeting format. Don’t miss this unique opportunity to build community and gather.
URL:https://www.ucc.org/event/into-the-deep-womxn-2-womxn-series-part-ii/
LOCATION:Zoom
CATEGORIES:Nurture the Soul
ATTACH;FMTTYPE=image/png:https://www.ucc.org/wp-content/uploads/2025/03/Womxn-to-Womxn.png
END:VEVENT
BEGIN:VEVENT
DTSTART;TZID=America/New_York:20250514T130000
DTEND;TZID=America/New_York:20250514T140000
DTSTAMP:20260422T033527
CREATED:20250424T142615Z
LAST-MODIFIED:20250424T142615Z
UID:245882-1747227600-1747231200@www.ucc.org
SUMMARY:A Relentless Struggle for Justice
DESCRIPTION:The story of Charles Lee’s involvement and leadership in the struggle for environmental justice intersects with many of the most pivotal events in the movement’s history: the Warren Country protests that gave birth to a movement\, the publication of “Toxic Wastes and Race in the United States” that became a landmark report\, the First National People of Color Environmental Leadership Summit that issued the groundbreaking “Principles of Environmental Justice\,” and the establishment of environmental justice as a core part of the EPA’s mission. On March 31st\, Charles Lee retired as the Senior Policy Advisor for Environmental Justice for the EPA after working there for more than two decades. In this webinar\, Lee will reflect back on his distinguished career. \nEven if you cannot make the webinar at its scheduled time\, still sign-up\, and we will send you a link to a recording of it. \nThis monthly installment of Creation Justice Webinars is co-hosted by the Rev. Dr. Brooks Berndt who serves as the Minister of Environmental Justice for the United Church of Christ and the Rev. Michael Malcom who serves as the Executive Director for Alabama Interfaith Power & Light and the People’s Justice Council.
URL:https://www.ucc.org/event/a-relentless-struggle-for-justice/
LOCATION:Zoom
CATEGORIES:Creation Justice
ATTACH;FMTTYPE=image/jpeg:https://www.ucc.org/wp-content/uploads/2025/04/A-Relentless-Struggle-for-Justice.jpg
END:VEVENT
BEGIN:VEVENT
DTSTART;TZID=America/New_York:20250515T153000
DTEND;TZID=America/New_York:20250515T163000
DTSTAMP:20260422T033527
CREATED:20250331T160725Z
LAST-MODIFIED:20250331T160725Z
UID:244927-1747323000-1747326600@www.ucc.org
SUMMARY:Theology\, Polity\, or Policy - How Do We Move Forward on Immigration in Small Town and Rural Communities
DESCRIPTION:Join us to hear from Pastors and Leaders within 3-different geographic small town and rural settings within the UCC to explore immigration during this complicated political and theological time. During our shared time together\, we’ll hear more about how current immigration policies are impacting these small and rural settings\, what our scriptures call us to be to one another\, and how our UCC polity can inform our work to push back on the hateful rhetoric and policies that seeks to strip the dignity and humanity of those migrating to the United States.
URL:https://www.ucc.org/event/theology-polity-or-policy-how-do-we-move-forward-on-immigration-in-small-town-and-rural-communities/
LOCATION:Zoom
CATEGORIES:Nurture the Soul
END:VEVENT
BEGIN:VEVENT
DTSTART;TZID=America/New_York:20250520T120000
DTEND;TZID=America/New_York:20250520T130000
DTSTAMP:20260422T033527
CREATED:20250408T162338Z
LAST-MODIFIED:20250520T164244Z
UID:245277-1747742400-1747746000@www.ucc.org
SUMMARY:For Consideration at General Synod 35: Proposed Amendments to the UCC Constitution & Bylaws
DESCRIPTION:This Webinar is being hosted by the UCCB to engage with the wider church about the proposed Amendments to the UCC Constitution and ByLaws. The three sets of amendments will be voted on at General Synod 35. Come to learn more and ask questions!
URL:https://www.ucc.org/event/for-consideration-at-general-synod-35-proposed-amendments-to-the-ucc-constitution-bylaws/
LOCATION:Zoom
ATTACH;FMTTYPE=image/jpeg:https://www.ucc.org/wp-content/uploads/2025/04/UCCB-Proposed-Synod-Amendments-WP-Email-FB-Cover.jpg
END:VEVENT
END:VCALENDAR