BEGIN:VCALENDAR
VERSION:2.0
PRODID:-//United Church of Christ - ECPv6.0.11//NONSGML v1.0//EN
CALSCALE:GREGORIAN
METHOD:PUBLISH
X-WR-CALNAME:United Church of Christ
X-ORIGINAL-URL:https://www.ucc.org
X-WR-CALDESC:Events for United Church of Christ
REFRESH-INTERVAL;VALUE=DURATION:PT1H
X-Robots-Tag:noindex
X-PUBLISHED-TTL:PT1H
BEGIN:VTIMEZONE
TZID:America/New_York
BEGIN:DAYLIGHT
TZOFFSETFROM:-0500
TZOFFSETTO:-0400
TZNAME:EDT
DTSTART:20260308T070000
END:DAYLIGHT
BEGIN:STANDARD
TZOFFSETFROM:-0400
TZOFFSETTO:-0500
TZNAME:EST
DTSTART:20261101T060000
END:STANDARD
END:VTIMEZONE
BEGIN:VEVENT
DTSTART;TZID=America/New_York:20260429T180000
DTEND;TZID=America/New_York:20260429T190000
DTSTAMP:20260421T180319
CREATED:20260420T200814Z
LAST-MODIFIED:20260421T181915Z
UID:260863-1777485600-1777489200@www.ucc.org
SUMMARY:A Conversation with Rev. Karen Georgia Thompson and Rev. Jennifer Sowell
DESCRIPTION:Leaders who come together to nurture community often discover a shared vision rooted in how they live the values and mission they serve. This April\, Rev. Karen Georgia Thompson\, General Minister and President of the United Church of Christ\, warmly welcomes Rev. Jennifer Sowell\, nominee for Associate General Minister for the Love of Church to have a conversation and lean into the Programmatic Priorities of the NMUCC in a two-part series. \n\During the April 29\, 2026 dialogue at 6:00 PM EST\, they will explore key programmatic priorities shaping the work of the NMUCC\, including the cooperative work of Strengthening the Church across the UCC; Leadership Development\, with a focus on cultivating faithful\, skilled leaders to serv in a variety of contexts; and Climate Action\, highlighting the church’s commitment to faith-based environmental justice\, sustainability\, and a just transition for all creation. \nThen\, the second conversation on April 30\, 2026\, at 1:00 PM EST\, they will continue to discuss the programmatic priorities\, including Spiritual Formation and ongoing learning rooted in faith\, inclusivity\, and theology; Reshaping the Narrative\, exploring the narratives and stories of the UCC’s nearly seventy-year history; and Decolonization\, focusing on the initiatives and efforts towards social change. \nRegister today to listen in and learn more about how these leaders love the church\, lead with purpose\, and grow into God’s unfolding vision.
URL:https://www.ucc.org/event/a-conversation-with-rev-karen-georgia-thompson-and-rev-jennifer-sowell/
LOCATION:Zoom
CATEGORIES:United Church of Christ
ATTACH;FMTTYPE=image/jpeg:https://www.ucc.org/wp-content/uploads/2026/04/Convo-with-KGT-Jennifer-Sowell.jpg
END:VEVENT
BEGIN:VEVENT
DTSTART;TZID=America/New_York:20260430T130000
DTEND;TZID=America/New_York:20260430T140000
DTSTAMP:20260421T180319
CREATED:20260420T201205Z
LAST-MODIFIED:20260421T181813Z
UID:260865-1777554000-1777557600@www.ucc.org
SUMMARY:A Conversation with Rev. Karen Georgia Thompson and Rev. Jennifer Sowell
DESCRIPTION:Leaders who come together to nurture community often discover a shared vision rooted in how they live the values and mission they serve. This April\, Rev. Karen Georgia Thompson\, General Minister and President of the United Church of Christ\, warmly welcomes Rev. Jennifer Sowell\, nominee for Associate General Minister for the Love of Church to have a conversation and lean into the Programmatic Priorities of the NMUCC in a two-part series. \n\During the April 29\, 2026 dialogue at 6:00 PM EST\, they will explore key programmatic priorities shaping the work of the NMUCC\, including the cooperative work of Strengthening the Church across the UCC; Leadership Development\, with a focus on cultivating faithful\, skilled leaders to serv in a variety of contexts; and Climate Action\, highlighting the church’s commitment to faith-based environmental justice\, sustainability\, and a just transition for all creation. \nThen\, the second conversation on April 30\, 2026\, at 1:00 PM EST\, they will continue to discuss the programmatic priorities\, including Spiritual Formation and ongoing learning rooted in faith\, inclusivity\, and theology; Reshaping the Narrative\, exploring the narratives and stories of the UCC’s nearly seventy-year history; and Decolonization\, focusing on the initiatives and efforts towards social change. \nRegister today to listen in and learn more about how these leaders love the church\, lead with purpose\, and grow into God’s unfolding vision.
URL:https://www.ucc.org/event/a-conversation-with-rev-karen-georgia-thompson-and-rev-jennifer-sowell-2/
LOCATION:Zoom
CATEGORIES:United Church of Christ
ATTACH;FMTTYPE=image/jpeg:https://www.ucc.org/wp-content/uploads/2026/04/Convo-with-KGT-Jennifer-Sowell.jpg
END:VEVENT
END:VCALENDAR