BEGIN:VCALENDAR
VERSION:2.0
PRODID:-//United Church of Christ - ECPv6.0.11//NONSGML v1.0//EN
CALSCALE:GREGORIAN
METHOD:PUBLISH
X-ORIGINAL-URL:https://www.ucc.org
X-WR-CALDESC:Events for United Church of Christ
REFRESH-INTERVAL;VALUE=DURATION:PT1H
X-Robots-Tag:noindex
X-PUBLISHED-TTL:PT1H
BEGIN:VTIMEZONE
TZID:America/New_York
BEGIN:DAYLIGHT
TZOFFSETFROM:-0500
TZOFFSETTO:-0400
TZNAME:EDT
DTSTART:20250309T070000
END:DAYLIGHT
BEGIN:STANDARD
TZOFFSETFROM:-0400
TZOFFSETTO:-0500
TZNAME:EST
DTSTART:20251102T060000
END:STANDARD
BEGIN:DAYLIGHT
TZOFFSETFROM:-0500
TZOFFSETTO:-0400
TZNAME:EDT
DTSTART:20260308T070000
END:DAYLIGHT
BEGIN:STANDARD
TZOFFSETFROM:-0400
TZOFFSETTO:-0500
TZNAME:EST
DTSTART:20261101T060000
END:STANDARD
END:VTIMEZONE
BEGIN:VEVENT
DTSTART;TZID=America/New_York:20250604T120000
DTEND;TZID=America/New_York:20250604T130000
DTSTAMP:20260420T085259
CREATED:20250409T143715Z
LAST-MODIFIED:20250529T154455Z
UID:245338-1749038400-1749042000@www.ucc.org
SUMMARY:OWL Taking Flight: What Fresh Hell is This? The Impact of Identity Erasure
DESCRIPTION:Heather Corinna\, founder of Scarleteen.com\, joins Rev. Amy Johnson and Dr. Melanie Davis to discuss the impact of policies\, laws\, and executive orders on the lives of trans/intersex/nonbinary/queer people of all ages. Scarleteen is the largest online resource for comprehensive and highly inclusive sex and relationships education\, information and support centering young people.
URL:https://www.ucc.org/event/owl-taking-flight-what-fresh-hell-is-this-the-impact-of-identity-erasure/
LOCATION:Zoom
CATEGORIES:Our Whole LIves,Our Whole Lives
ATTACH;FMTTYPE=image/jpeg:https://www.ucc.org/wp-content/uploads/2025/04/efd38df7-8a5c-4ba3-b0bb-9deb22018578.jpg
END:VEVENT
BEGIN:VEVENT
DTSTART;TZID=America/New_York:20250903T120000
DTEND;TZID=America/New_York:20250903T130000
DTSTAMP:20260420T085259
CREATED:20250730T160605Z
LAST-MODIFIED:20250730T160605Z
UID:250193-1756900800-1756904400@www.ucc.org
SUMMARY:OWL Taking Flight: Building a Trans/Nonbinary-Inclusive Teen Library
DESCRIPTION:Join Melanie Davis and Sloane Kazim for a discussion about how to make sure your library at home\, at church\, in your community–is inclusive of trans/nonbinary representation. Now\, more than ever\, this matters!
URL:https://www.ucc.org/event/owl-taking-flight-building-a-trans-nonbinary-inclusive-teen-library/
LOCATION:Zoom
CATEGORIES:Our Whole LIves,Our Whole Lives
END:VEVENT
BEGIN:VEVENT
DTSTART;TZID=America/New_York:20251001T120000
DTEND;TZID=America/New_York:20251001T130000
DTSTAMP:20260420T085259
CREATED:20250902T194132Z
LAST-MODIFIED:20250902T194132Z
UID:251323-1759320000-1759323600@www.ucc.org
SUMMARY:OWL Taking Flight: Sex Ed in the South
DESCRIPTION:Tanya Bass\, Southern Sexologist and Our Whole Lives Trainer\, will join us for an engaging discussion about the importance of Sex Ed in the South.
URL:https://www.ucc.org/event/owl-taking-flight-sex-ed-in-the-south/
LOCATION:Zoom
CATEGORIES:Our Whole LIves,Our Whole Lives
END:VEVENT
BEGIN:VEVENT
DTSTART;TZID=America/New_York:20251105T120000
DTEND;TZID=America/New_York:20251105T130000
DTSTAMP:20260420T085259
CREATED:20250902T194526Z
LAST-MODIFIED:20251029T141034Z
UID:251325-1762344000-1762347600@www.ucc.org
SUMMARY:OWL Taking Flight: Inclusive Our Whole Lives Programs
DESCRIPTION:Dan Long\, Student Services Supervisor\, Special Education in the Seattle Public Schools\, joins us for a conversation and expansive view of inclusion and accommodations for participants.
URL:https://www.ucc.org/event/owl-taking-flight-inclusive-our-whole-lives-programs/
LOCATION:Zoom
CATEGORIES:Our Whole LIves,Our Whole Lives
ATTACH;FMTTYPE=image/jpeg:https://www.ucc.org/wp-content/uploads/2025/09/Inclusive-Our-Whole-Lives-Programs-Webinar.jpg
END:VEVENT
BEGIN:VEVENT
DTSTART;TZID=America/New_York:20260107T120000
DTEND;TZID=America/New_York:20260107T130000
DTSTAMP:20260420T085259
CREATED:20251110T142340Z
LAST-MODIFIED:20251110T142340Z
UID:254199-1767787200-1767790800@www.ucc.org
SUMMARY:OWL Taking Flight: What's Faith Got to Do With It?
DESCRIPTION:What does faith have to do with sex ed? Join us to hear why two faith organizations continue to partner to provide comprehensive\, inclusive and faith-based sexuality education.
URL:https://www.ucc.org/event/owl-taking-flight-whats-faith-got-to-do-with-it/
LOCATION:Zoom
CATEGORIES:Our Whole LIves,Our Whole Lives
ATTACH;FMTTYPE=image/jpeg:https://www.ucc.org/wp-content/uploads/2025/10/OWL-Event-Graphic-1.jpg
END:VEVENT
BEGIN:VEVENT
DTSTART;TZID=America/New_York:20260204T120000
DTEND;TZID=America/New_York:20260204T130000
DTSTAMP:20260420T085259
CREATED:20260112T192553Z
LAST-MODIFIED:20260130T150744Z
UID:256477-1770206400-1770210000@www.ucc.org
SUMMARY:OWL Taking Flight: Sex Ed Week of Action
DESCRIPTION:Join us as we welcome Miranda Estes\, State Policy and Action Manager for SIECUS for information and advocacy around Sex Ed Week of Action!
URL:https://www.ucc.org/event/owl-taking-flight-sex-ed-week-of-action/
LOCATION:Zoom
CATEGORIES:Our Whole LIves,Our Whole Lives
ATTACH;FMTTYPE=image/jpeg:https://www.ucc.org/wp-content/uploads/2026/01/OWL-Taking-Flight-Sex-Ed-Week-of-Action-2-4-2026-Webinar-Graphic.jpg
END:VEVENT
BEGIN:VEVENT
DTSTART;TZID=America/New_York:20260304T120000
DTEND;TZID=America/New_York:20260304T130000
DTSTAMP:20260420T085259
CREATED:20260213T160717Z
LAST-MODIFIED:20260224T172205Z
UID:258069-1772625600-1772629200@www.ucc.org
SUMMARY:OWL Taking Flight: AI Impacts on Youth
DESCRIPTION:Join us to hear from health educator Brett Niessen\, about the impacts of AI on youth.
URL:https://www.ucc.org/event/owl-taking-flight-ai-impacts-on-youth/
LOCATION:Zoom
CATEGORIES:Our Whole Lives,Programmatic Priorities - Leadership Development,Programmatic Priorities - Reshaping the Narrative,Programmatic Priorities - Strengthening the Church
ATTACH;FMTTYPE=image/jpeg:https://www.ucc.org/wp-content/uploads/2026/02/AI-Impacts-on-Youth.jpg
END:VEVENT
BEGIN:VEVENT
DTSTART;TZID=America/New_York:20260401T120000
DTEND;TZID=America/New_York:20260401T130000
DTSTAMP:20260420T085259
CREATED:20260304T163552Z
LAST-MODIFIED:20260316T154331Z
UID:259033-1775044800-1775048400@www.ucc.org
SUMMARY:Our Whole Lives Taking Flight: Augmenting Your OWL Program--No Fooling!
DESCRIPTION:Join Amy Johnson and Melanie Davis for a lively discussion about ways to augment your Our Whole Lives program and support sexuality education in your faith community. Get ideas for Sex Ed for All Month in May!
URL:https://www.ucc.org/event/our-whole-lives-taking-flight-augmenting-your-owl-program-no-fooling/
LOCATION:Zoom
CATEGORIES:Our Whole LIves,Our Whole Lives,Programmatic Priorities - Reshaping the Narrative,Programmatic Priorities - Strengthening the Church
ATTACH;FMTTYPE=image/jpeg:https://www.ucc.org/wp-content/uploads/2025/10/OWL-Event-Graphic-1.jpg
END:VEVENT
BEGIN:VEVENT
DTSTART;TZID=America/New_York:20260506T120000
DTEND;TZID=America/New_York:20260506T130000
DTSTAMP:20260420T085259
CREATED:20260309T190804Z
LAST-MODIFIED:20260309T191159Z
UID:259577-1778068800-1778072400@www.ucc.org
SUMMARY:Our Whole Lives Taking Flight: Sex Ed For All Month with the UMC!
DESCRIPTION:Join us as we welcome Rev. Heather Gottas Moore with the United Methodist Church to talk about how Our Whole Lives in the UMC is one way we are all celebrating Sex Ed for All Month this year. Hear the grass roots story about how the UMC is embracing Our Whole Lives and be inspired to spread the word!
URL:https://www.ucc.org/event/our-whole-lives-taking-flight-sex-ed-for-all-month-with-the-umc/
LOCATION:Zoom
CATEGORIES:Our Whole Lives,Programmatic Priorities - Reshaping the Narrative
ATTACH;FMTTYPE=image/jpeg:https://www.ucc.org/wp-content/uploads/2025/10/OWL-Event-Graphic-1.jpg
END:VEVENT
BEGIN:VEVENT
DTSTART;TZID=America/New_York:20260603T120000
DTEND;TZID=America/New_York:20260603T130000
DTSTAMP:20260420T085259
CREATED:20260414T145116Z
LAST-MODIFIED:20260417T163152Z
UID:260677-1780488000-1780491600@www.ucc.org
SUMMARY:Our Whole Lives Taking Flight: Queer Love + Liberation Round Table
DESCRIPTION:Join us as we welcome these folks for a discussion about Queer Love and Liberation: \n-Schmian Evans\, Minister for Women and Gender Justice\, United Church of Christ \n-Rev. Derek Terry\, Acting Executive Director\, Open and Affirming Coalition of the United Church of Christ \n-Mylo Way\, Youth and Emerging Adult Ministries\, Unitarian Universalist Association \n-Mykal Slak\, Assistant Minister for Lifelong Faith Formation\, Unitarian Universalist Congregation of Rockville
URL:https://www.ucc.org/event/our-whole-lives-taking-flight-queer-love-liberation-round-table/
LOCATION:Zoom
CATEGORIES:Our Whole Lives,Programmatic Priorities - Reshaping the Narrative
ATTACH;FMTTYPE=image/jpeg:https://www.ucc.org/wp-content/uploads/2025/10/OWL-Event-Graphic-1.jpg
END:VEVENT
END:VCALENDAR