BEGIN:VCALENDAR
VERSION:2.0
PRODID:-//United Church of Christ - ECPv6.0.11//NONSGML v1.0//EN
CALSCALE:GREGORIAN
METHOD:PUBLISH
X-WR-CALNAME:United Church of Christ
X-ORIGINAL-URL:https://www.ucc.org
X-WR-CALDESC:Events for United Church of Christ
REFRESH-INTERVAL;VALUE=DURATION:PT1H
X-Robots-Tag:noindex
X-PUBLISHED-TTL:PT1H
BEGIN:VTIMEZONE
TZID:America/New_York
BEGIN:DAYLIGHT
TZOFFSETFROM:-0500
TZOFFSETTO:-0400
TZNAME:EDT
DTSTART:20230312T070000
END:DAYLIGHT
BEGIN:STANDARD
TZOFFSETFROM:-0400
TZOFFSETTO:-0500
TZNAME:EST
DTSTART:20231105T060000
END:STANDARD
BEGIN:DAYLIGHT
TZOFFSETFROM:-0500
TZOFFSETTO:-0400
TZNAME:EDT
DTSTART:20240310T070000
END:DAYLIGHT
BEGIN:STANDARD
TZOFFSETFROM:-0400
TZOFFSETTO:-0500
TZNAME:EST
DTSTART:20241103T060000
END:STANDARD
BEGIN:DAYLIGHT
TZOFFSETFROM:-0500
TZOFFSETTO:-0400
TZNAME:EDT
DTSTART:20250309T070000
END:DAYLIGHT
BEGIN:STANDARD
TZOFFSETFROM:-0400
TZOFFSETTO:-0500
TZNAME:EST
DTSTART:20251102T060000
END:STANDARD
BEGIN:DAYLIGHT
TZOFFSETFROM:-0500
TZOFFSETTO:-0400
TZNAME:EDT
DTSTART:20260308T070000
END:DAYLIGHT
BEGIN:STANDARD
TZOFFSETFROM:-0400
TZOFFSETTO:-0500
TZNAME:EST
DTSTART:20261101T060000
END:STANDARD
END:VTIMEZONE
BEGIN:VEVENT
DTSTART;TZID=America/New_York:20260412T100000
DTEND;TZID=America/New_York:20260412T130000
DTSTAMP:20260424T184110
CREATED:20260325T184055Z
LAST-MODIFIED:20260331T192813Z
UID:260160-1775988000-1775998800@www.ucc.org
SUMMARY:The Global Rise of Religious Nationalism: Implications & the Church’s Response
DESCRIPTION:Religious Nationalism occurs when a religious tradition\, political agenda\, and national loyalty combine to harm those of different faiths. By privileging one community and discriminating against others\, it can lead to oppression\, violence\, and social exclusion\, especially targeting people of other religions or ethnicities. This misuse of religion undermines society and obscures its positive contributions. \nJoin us for this important dialogue as we seek to better understand the global realities of Religious Nationalism and discern how the church called to respond. \nReligious Nationalism is not only shaping political and religious landscapes in the United States—it is emerging as a powerful force in countries around the world. How is this movement spreading globally? What theological\, political\, and social dynamics are fueling it? And how are churches called to respond? \nThe United Church of Christ welcomes Rev. Phillip Peacock\, General Secretary of the World Communion of Reformed Churches\, a leader in global ecumenism\, justice advocacy\, and Reformed theology. Drawing on his international experience\, Rev. Peacock will examine how Religious Nationalism appears in different cultural contexts around the globe\, while Rev. Karen Georgia Thompson will provide perspective on its impact in the United States.
URL:https://www.ucc.org/event/the-global-rise-of-religious-nationalism-implications-the-churchs-response/
LOCATION:Zoom
CATEGORIES:Office of the General Minister and President,Programmatic Priorities - Reshaping the Narrative,United Church of Christ
ATTACH;FMTTYPE=image/jpeg:https://www.ucc.org/wp-content/uploads/2026/03/Global-Spread-Implications-of-Christian-Nationalism-Email-Banner.jpg
END:VEVENT
BEGIN:VEVENT
DTSTART;TZID=America/New_York:20231020T170000
DTEND;TZID=America/New_York:20231020T190000
DTSTAMP:20260424T184110
CREATED:20230829T144153Z
LAST-MODIFIED:20230908T204256Z
UID:214101-1697821200-1697828400@www.ucc.org
SUMMARY:Installation of the 10th General Minister and President
DESCRIPTION:You are cordially invited to attend the Installation of the 10th General Minister and President\, Rev. Dr. Karen Georgia A. Thompson. Learn more about the Installation here: www.ucc.org/gmp-installation/. Can’t attend in person? You can participate in the service online: https://UCC.zoom.us/webinar/register/8016942040880/WN_SwP7ZZcjQAubcJjuSl-Upw
URL:https://www.ucc.org/event/installation-of-the-10th-general-minister-and-president/
LOCATION:Lakewood Congregational Church (Livestream Available)\, 1375 West Clifton Boulevard\, Lakewood\, Ohio\, 44107
CATEGORIES:Office of the General Minister and President
ATTACH;FMTTYPE=image/jpeg:https://www.ucc.org/wp-content/uploads/2023/08/KGT-Installation-WPImage-Promotion.jpg
END:VEVENT
BEGIN:VEVENT
DTSTART;TZID=America/New_York:20230531T130000
DTEND;TZID=America/New_York:20230531T140000
DTSTAMP:20260424T184110
CREATED:20230206T182728Z
LAST-MODIFIED:20230209T181410Z
UID:204165-1685538000-1685541600@www.ucc.org
SUMMARY:What has been your most important COVID shift?
DESCRIPTION:Part 8 of the Create Playspace with the President series. \nProvocateur:\nRev. Dr. John C. Dorhauer\, General Minister and President of the UCC. \n**Please note- all sessions in this series will be recorded.
URL:https://www.ucc.org/event/what-has-been-your-most-important-covid-shift/
LOCATION:Zoom
CATEGORIES:Office of the General Minister and President
END:VEVENT
BEGIN:VEVENT
DTSTART;TZID=America/New_York:20230517T130000
DTEND;TZID=America/New_York:20230517T140000
DTSTAMP:20260424T184110
CREATED:20230206T182514Z
LAST-MODIFIED:20230209T181313Z
UID:204163-1684328400-1684332000@www.ucc.org
SUMMARY:What is changing in ministry?
DESCRIPTION:Part 7 of the Create Playspace with the President series. \nProvocateur:\nRev. Elizabeth Dilley\, Team Leader of Ministerial Excellence\, Support and Authorization (MESA)\, Justice and Local Church Ministries. \n**Please note- all sessions in this series will be recorded.
URL:https://www.ucc.org/event/what-is-changing-in-ministry/
LOCATION:Zoom
CATEGORIES:Office of the General Minister and President
END:VEVENT
BEGIN:VEVENT
DTSTART;TZID=America/New_York:20230503T130000
DTEND;TZID=America/New_York:20230503T140000
DTSTAMP:20260424T184110
CREATED:20230206T182211Z
LAST-MODIFIED:20230209T180932Z
UID:204160-1683118800-1683122400@www.ucc.org
SUMMARY:A new eco-system for Members in Discernment.
DESCRIPTION:Part 6 of the Create Playspace with the President series. \nProvocateur:\nRev. David Vasquez-Levy\, President and Professor of Homiletics at the Pacific School of Religion in Berkeley\, California \n**Please note- all sessions in this series will be recorded.
URL:https://www.ucc.org/event/a-new-eco-system-for-members-in-discernment/
LOCATION:Zoom
CATEGORIES:Office of the General Minister and President
END:VEVENT
BEGIN:VEVENT
DTSTART;TZID=America/New_York:20230412T130000
DTEND;TZID=America/New_York:20230412T140000
DTSTAMP:20260424T184110
CREATED:20230206T181835Z
LAST-MODIFIED:20230209T180832Z
UID:204152-1681304400-1681308000@www.ucc.org
SUMMARY:How do we effectively use social media to message progressive Christianity?
DESCRIPTION:Part 5 of the Create Playspace with the President series. \nProvocateur:\nRev. Sarah Tevis-Townes\, pastor of the Church of the Good Shepherd in Albuquerque\, New Mexico\, and a Tik-Tok innovator who has built a large following using video shorts to teach the world about progressive faith. \n**Please note- all sessions in this series will be recorded.
URL:https://www.ucc.org/event/how-do-we-effectively-use-social-media-to-message-progressive-christianity/
LOCATION:Zoom
CATEGORIES:Office of the General Minister and President
END:VEVENT
BEGIN:VEVENT
DTSTART;TZID=America/New_York:20230411T203000
DTEND;TZID=America/New_York:20230411T213000
DTSTAMP:20260424T184110
CREATED:20230404T193723Z
LAST-MODIFIED:20230404T193723Z
UID:207669-1681245000-1681248600@www.ucc.org
SUMMARY:Christian Nationalism: A Threat to Democracy and Christianity
DESCRIPTION:The Rev. Dr. John C. Dorhauer\, general minister and president of the United Church of Christ\, will discuss the challenge of faithfulness in the face of Christian nationalism\, and the need for religious leaders and people of faith to openly discuss and confront it. Dorhauer is the author of Beyond Resistance: The Institutional Church Meets the Postmodern World (2015). Part of the Religious Literacy Project at Elmhurst University. \nUpon registering\, event can be livestreamed here: https://www.youtube.com/@ElmhurstUniversity1871
URL:https://www.ucc.org/event/christian-nationalism-a-threat-to-democracy-and-christianity/
CATEGORIES:Office of the General Minister and President
END:VEVENT
BEGIN:VEVENT
DTSTART;TZID=America/New_York:20230405T130000
DTEND;TZID=America/New_York:20230405T140000
DTSTAMP:20260424T184110
CREATED:20230206T181327Z
LAST-MODIFIED:20230209T180731Z
UID:204145-1680699600-1680703200@www.ucc.org
SUMMARY:How we gather: Where are future faith seekers finding access to their Sacred?
DESCRIPTION:Part 4 of the Create Playspace with the President series. \nProvocateurs:\nCasper ter Kuile co-author of How We Gather\, and co-founder of The Sacred Design Lab. \n**Please note- all sessions in this series will be recorded.
URL:https://www.ucc.org/event/how-we-gather-where-are-future-faith-seekers-finding-access-to-their-sacred/
LOCATION:Zoom
CATEGORIES:Office of the General Minister and President
END:VEVENT
BEGIN:VEVENT
DTSTART;TZID=America/New_York:20230315T130000
DTEND;TZID=America/New_York:20230315T140000
DTSTAMP:20260424T184110
CREATED:20230206T181036Z
LAST-MODIFIED:20230209T180615Z
UID:204141-1678885200-1678888800@www.ucc.org
SUMMARY:How do we fund the future?
DESCRIPTION:Part 3 of the Create Playspace with the President series. \nProvocateurs:\nRev. Kent Siladi\, UCC Director of Philanthropy\nRev. Andrew Warner\, Generosity Outreach Officer in the UCC Office of Philanthropy\, Technology\, Identity\, and Communication (OPTIC) \n**Please note- all sessions in this series will be recorded.
URL:https://www.ucc.org/event/how-do-we-fund-the-future/
LOCATION:Zoom
CATEGORIES:Office of the General Minister and President
END:VEVENT
BEGIN:VEVENT
DTSTART;TZID=America/New_York:20230301T130000
DTEND;TZID=America/New_York:20230301T140000
DTSTAMP:20260424T184110
CREATED:20230203T191358Z
LAST-MODIFIED:20230209T180454Z
UID:204039-1677675600-1677679200@www.ucc.org
SUMMARY:Is property a missional asset or liability?
DESCRIPTION:Part 2 of the Create Playspace with the President series. \nProvocateur:\nMaria Coyne\, President and CEO of the Cornerstone Fund. \n**Please note- all sessions in this series will be recorded.
URL:https://www.ucc.org/event/is-property-a-missional-asset-or-liability/
LOCATION:Zoom
CATEGORIES:Office of the General Minister and President
END:VEVENT
BEGIN:VEVENT
DTSTART;TZID=America/New_York:20230215T130000
DTEND;TZID=America/New_York:20230215T140000
DTSTAMP:20260424T184110
CREATED:20230131T191002Z
LAST-MODIFIED:20230209T180032Z
UID:203519-1676466000-1676469600@www.ucc.org
SUMMARY:Create Playspace with the President
DESCRIPTION:What Is the Best/Most Exciting Tech Innovation You Are Incorporating into Your Ministry and How Is It Changing Your Future? \nProvocateur: John C. Dorhauer
URL:https://www.ucc.org/event/create-playspace-with-the-president/
LOCATION:Zoom
CATEGORIES:Office of the General Minister and President
END:VEVENT
END:VCALENDAR