BEGIN:VCALENDAR
VERSION:2.0
PRODID:-//United Church of Christ - ECPv6.0.11//NONSGML v1.0//EN
CALSCALE:GREGORIAN
METHOD:PUBLISH
X-WR-CALNAME:United Church of Christ
X-ORIGINAL-URL:https://www.ucc.org
X-WR-CALDESC:Events for United Church of Christ
REFRESH-INTERVAL;VALUE=DURATION:PT1H
X-Robots-Tag:noindex
X-PUBLISHED-TTL:PT1H
BEGIN:VTIMEZONE
TZID:America/New_York
BEGIN:DAYLIGHT
TZOFFSETFROM:-0500
TZOFFSETTO:-0400
TZNAME:EDT
DTSTART:20210314T070000
END:DAYLIGHT
BEGIN:STANDARD
TZOFFSETFROM:-0400
TZOFFSETTO:-0500
TZNAME:EST
DTSTART:20211107T060000
END:STANDARD
BEGIN:DAYLIGHT
TZOFFSETFROM:-0500
TZOFFSETTO:-0400
TZNAME:EDT
DTSTART:20220313T070000
END:DAYLIGHT
BEGIN:STANDARD
TZOFFSETFROM:-0400
TZOFFSETTO:-0500
TZNAME:EST
DTSTART:20221106T060000
END:STANDARD
BEGIN:DAYLIGHT
TZOFFSETFROM:-0500
TZOFFSETTO:-0400
TZNAME:EDT
DTSTART:20230312T070000
END:DAYLIGHT
BEGIN:STANDARD
TZOFFSETFROM:-0400
TZOFFSETTO:-0500
TZNAME:EST
DTSTART:20231105T060000
END:STANDARD
BEGIN:DAYLIGHT
TZOFFSETFROM:-0500
TZOFFSETTO:-0400
TZNAME:EDT
DTSTART:20240310T070000
END:DAYLIGHT
BEGIN:STANDARD
TZOFFSETFROM:-0400
TZOFFSETTO:-0500
TZNAME:EST
DTSTART:20241103T060000
END:STANDARD
BEGIN:DAYLIGHT
TZOFFSETFROM:-0500
TZOFFSETTO:-0400
TZNAME:EDT
DTSTART:20250309T070000
END:DAYLIGHT
BEGIN:STANDARD
TZOFFSETFROM:-0400
TZOFFSETTO:-0500
TZNAME:EST
DTSTART:20251102T060000
END:STANDARD
BEGIN:DAYLIGHT
TZOFFSETFROM:-0500
TZOFFSETTO:-0400
TZNAME:EDT
DTSTART:20260308T070000
END:DAYLIGHT
BEGIN:STANDARD
TZOFFSETFROM:-0400
TZOFFSETTO:-0500
TZNAME:EST
DTSTART:20261101T060000
END:STANDARD
END:VTIMEZONE
BEGIN:VEVENT
DTSTART;TZID=America/New_York:20260416T174500
DTEND;TZID=America/New_York:20260416T190000
DTSTAMP:20260425T185645
CREATED:20260331T193413Z
LAST-MODIFIED:20260409T173923Z
UID:260401-1776361500-1776366000@www.ucc.org
SUMMARY:Meet the Nominee
DESCRIPTION:Ahead of the special meeting of General Synod Thirty-five which will take place on May 9\, this is an opportunity to meet the nominee for the position Associate General Minister\, Love of Church. General Synod Assistant Moderator Susan Cartmell and Search Committee Chair Rev. Cean James will introduce the nominee\, Rev. Jennifer Sowell\, who will then offer some remarks. The majority of the time is dedicated for Q&A with the nominee.
URL:https://www.ucc.org/event/meet-the-candidate/
LOCATION:Zoom
CATEGORIES:General Synod,Programmatic Priorities - Leadership Development,United Church of Christ
ATTACH;FMTTYPE=image/jpeg:https://www.ucc.org/wp-content/uploads/2026/03/2026-04-16-Meet-The-Candidate-WP-Email-FB-Cover.jpg
END:VEVENT
BEGIN:VEVENT
DTSTART;TZID=America/New_York:20230517T180000
DTEND;TZID=America/New_York:20230517T190000
DTSTAMP:20260425T185645
CREATED:20230227T165326Z
LAST-MODIFIED:20230227T165326Z
UID:205221-1684346400-1684350000@www.ucc.org
SUMMARY:General Synod Frequency Town Hall 3/3
DESCRIPTION:At General Synod 34 in Indianapolis\, delegates will consider amendments to the UCC Bylaws that would change the frequency of General Synod from two years to three years. \nJoin one of the Town Halls to learn more about the Bylaws changes recommended by the UCC Board.
URL:https://www.ucc.org/event/general-synod-frequency-town-hall-3-3/
CATEGORIES:General Synod
END:VEVENT
BEGIN:VEVENT
DTSTART;TZID=America/New_York:20230426T180000
DTEND;TZID=America/New_York:20230426T190000
DTSTAMP:20260425T185645
CREATED:20230227T165147Z
LAST-MODIFIED:20230227T165147Z
UID:205219-1682532000-1682535600@www.ucc.org
SUMMARY:General Synod Frequency Town Hall 2/3
DESCRIPTION:At General Synod 34 in Indianapolis\, delegates will consider amendments to the UCC Bylaws that would change the frequency of General Synod from two years to three years. \nJoin one of the Town Halls to learn more about the Bylaws changes recommended by the UCC Board.
URL:https://www.ucc.org/event/general-synod-frequency-town-hall-2-3/
CATEGORIES:General Synod
END:VEVENT
BEGIN:VEVENT
DTSTART;TZID=America/New_York:20230315T140000
DTEND;TZID=America/New_York:20230315T150000
DTSTAMP:20260425T185645
CREATED:20230227T164915Z
LAST-MODIFIED:20230227T164915Z
UID:205216-1678888800-1678892400@www.ucc.org
SUMMARY:General Synod Frequency Town Hall 1/3
DESCRIPTION:At General Synod 34 in Indianapolis\, delegates will consider amendments to the UCC Bylaws that would change the frequency of General Synod from two years to three years. \nJoin one of the Town Halls to learn more about the Bylaws changes recommended by the UCC Board.
URL:https://www.ucc.org/event/general-synod-frequency-town-hall-1-3/
CATEGORIES:General Synod
END:VEVENT
BEGIN:VEVENT
DTSTART;TZID=America/New_York:20210422T153000
DTEND;TZID=America/New_York:20210422T163000
DTSTAMP:20260425T185645
CREATED:20210407T140732Z
LAST-MODIFIED:20210422T174517Z
UID:158695-1619105400-1619109000@www.ucc.org
SUMMARY:Getting Ready\, Getting Rooted Part II
DESCRIPTION:In part II\, of Getting Ready\, Getting Rooted – Thursdays For the Soul\, General Synod Worship Director\, Rev. Tracy Howe\, planning team members\, liturgists\, artists and others will look at formation and how the spiritual journey and sub themes of the General Synod worship services were developed. Featuring sneak peaks of original music commissioned for General Synod as well as other art and cultural offerings!
URL:https://www.ucc.org/event/getting-ready-getting-rooted-part-ii/
LOCATION:Zoom
CATEGORIES:General Synod
ATTACH;FMTTYPE=image/jpeg:https://www.ucc.org/wp-content/uploads/2021/04/GettingRootedP2-ThursdaysfortheSoul-WPImage-Promotion.jpg
END:VEVENT
BEGIN:VEVENT
DTSTART;TZID=America/New_York:20210420T153000
DTEND;TZID=America/New_York:20210420T163000
DTSTAMP:20260425T185645
CREATED:20210407T140329Z
LAST-MODIFIED:20210412T174847Z
UID:158688-1618932600-1618936200@www.ucc.org
SUMMARY:Getting Ready\, Getting Rooted Part I
DESCRIPTION:Join General Synod Worship Director\, Rev. Tracy Howe\, planning team members\, liturgists\, artists and others who are helping to develop the spiritual foundations as well as the worship\, music and arts programing for this historic virtual gathering. In this two-part series\, Tuesday for Nurture will explore the practical considerations in developing this massive project\, many of which translate to the local church as well. What does it mean to create trauma informed liturgy? What is does disability justice look like in the virtual environment? How does the expectation of General Synod worship pasts inform what we are creating? Featuring sneak peaks of original music commissioned for General Synod as well as other art and cultural offerings!
URL:https://www.ucc.org/event/getting-ready-getting-rooted-part-i/
LOCATION:Zoom
CATEGORIES:General Synod
ATTACH;FMTTYPE=image/jpeg:https://www.ucc.org/wp-content/uploads/2021/04/GettingRootedP1-TuesdayforNurture-ZoomBanner.jpg
END:VEVENT
END:VCALENDAR