BEGIN:VCALENDAR
VERSION:2.0
PRODID:-//United Church of Christ - ECPv6.0.11//NONSGML v1.0//EN
CALSCALE:GREGORIAN
METHOD:PUBLISH
X-ORIGINAL-URL:https://www.ucc.org
X-WR-CALDESC:Events for United Church of Christ
REFRESH-INTERVAL;VALUE=DURATION:PT1H
X-Robots-Tag:noindex
X-PUBLISHED-TTL:PT1H
BEGIN:VTIMEZONE
TZID:America/New_York
BEGIN:DAYLIGHT
TZOFFSETFROM:-0500
TZOFFSETTO:-0400
TZNAME:EDT
DTSTART:20250309T070000
END:DAYLIGHT
BEGIN:STANDARD
TZOFFSETFROM:-0400
TZOFFSETTO:-0500
TZNAME:EST
DTSTART:20251102T060000
END:STANDARD
END:VTIMEZONE
BEGIN:VEVENT
DTSTART;TZID=America/New_York:20251120T153000
DTEND;TZID=America/New_York:20251120T163000
DTSTAMP:20260421T203410
CREATED:20251031T132437Z
LAST-MODIFIED:20251031T172344Z
UID:253883-1763652600-1763656200@www.ucc.org
SUMMARY:Land\, The Series in 3-Parts: Part III: Stacked Stories and the Doctrine of Discovery Today
DESCRIPTION:Land: A Three-part Series: Our relationship to land varies\, not only geographically but spiritually as well. This 3-part series will examine the role Christianity has had in our relationship to land and how those relationships inform how we live\, work and worship alongside others. \nPart III – In this webinar\, Rev. Dr. Rebecca Voelkel and Land History Consultant and tribal-rights attorney Jessica Intermill will explore the legal and theological underpinnings of the Doctrine of Discovery. They will explore the texture of the doctrine in today’s world with a deep dive into the social geography of Minneapolis\, and then answer guest questions about the role of the Doctrine today.
URL:https://www.ucc.org/event/land-the-series-in-3-parts-part-iii-stacked-stories-and-the-doctrine-of-discovery-today/
LOCATION:Zoom
CATEGORIES:Nurture the Soul
END:VEVENT
BEGIN:VEVENT
DTSTART;TZID=America/New_York:20251120T190000
DTEND;TZID=America/New_York:20251120T200000
DTSTAMP:20260421T203410
CREATED:20251028T182338Z
LAST-MODIFIED:20251120T170514Z
UID:253801-1763665200-1763668800@www.ucc.org
SUMMARY:Trans Day of Remembrance Vigil
DESCRIPTION:Worship Bulletin \nTrans Day of Remembrance embodies our belief in the power of memory in the naming of Trans beloveds we have lost to violence. In a world moment\, where division continues to be highlighted\, the Church can offer a place of celebration and honoring of God’s uniqueness and gifts within humanity. Join the United Church of Christ November 20th\, 7-8:15 PM\, to share space in remembering our trans siblings and celebrating the divine within them. We encourage community gatherings\, Church groups\, conferences\, and more to join together in viewing this service with us. \nPreaching: Rev. Dr. Lawrence T. Richardson (he/him/his) serves as the Associate Conference Minister for Church Vitality and Transitions in the Michigan Conference UCC. Rev. Richardson is a member of the United Church of Christ Board of Directors. Lawrence worked for 10 years as a consultant with church leadership and consulting group\, Convergence; served as an adjunct faculty member at both United Theological Seminary of the Twin Cities and Luther Seminary and was a media trainer for Auburn Seminary. Lawrence served for 20 years as a local church pastor\, digital evangelist\, and church planter. A transgender advocate\, Lawrence received the Humanitarian Award from Black Transmen Inc. and was a Trans 100 List honoree. Lawrence loves reading\, trying different cuisine\, traveling\, and spending time with loved ones. He is delighted to be here with you today. \nMusic & Spoken Word provided by The Many: Drawing on indie pop and gospel influences\, The Many makes music to help give voice to faith and doubt\, questions and fears\, laments and longings\, music that speaks to a non-violent God\, a Jesus who is with us and for us\, and to a Spirit that can’t be easily defined or controlled.  It’s music for a movement of resistance to hatred and division\, for reconciliation and restoration\, and music that always reminds us “we are on this earth to love.”
URL:https://www.ucc.org/event/trans-day-of-remembrance-vigil-2/
LOCATION:Zoom
CATEGORIES:Gender and Sexuality Justice Ministries
ATTACH;FMTTYPE=image/jpeg:https://www.ucc.org/wp-content/uploads/2025/10/2025-11-20-TDOR-Worship-Zoom-Banner.jpg
END:VEVENT
END:VCALENDAR